BEGIN:VCALENDAR
VERSION:2.0
PRODID:-//eventon.com NONSGML v1.0//EN
BEGIN:VEVENT
UID:69ec3c4d5361f
DTSTAMP:20260425T060013
DTSTART:20210519T180000Z
DTEND:20210519T203000Z
LOCATION:
SUMMARY:Café Echange
DESCRIPTION: Rencontre dédiée aux parents de bébés nés prématurément dont les enfants ne sont plus hospitalisés en Néonatologie\,  sortis récemment ou depuis plus longtemps. Une véritable occasion de partager votre parcours et votre vécu avec des parents qui ont aussi vécu l’expérience de la prématurité. Un chaleureux moment d’écoute et de[..]
END:VEVENT
END:VCALENDAR