BEGIN:VCALENDAR
VERSION:2.0
PRODID:-//eventon.com NONSGML v1.0//EN
BEGIN:VEVENT
UID:69ec262e91289
DTSTAMP:20260425T042550
DTSTART:20240625T160000Z
DTEND:20240625T180000Z
LOCATION:Maternité HUG Boulevard de la Cluse 30 - 1211 Genève 14
SUMMARY:Permanence
DESCRIPTION: Pour vous parents de bébés actuellement hospitalisés en Néonatologie\,  une permanence bimensuelle est régulièrement à disposition les mardis à la maternité des HUG dans le service. Une personne bénévole ayant vécu une expérience similaire à la vôtre sera disponible dans la salle mise à disposition des parents. Afin de prendre[..]
END:VEVENT
END:VCALENDAR