BEGIN:VCALENDAR
VERSION:2.0
PRODID:-//eventon.com NONSGML v1.0//EN
BEGIN:VEVENT
UID:69eb0423bb418
DTSTAMP:20260424T074819
DTSTART:20241127T173000Z
DTEND:20241127T193000Z
LOCATION:
SUMMARY:Café Echange
DESCRIPTION: Rencontre spécialement dédiée aux parents de bébés nés prématurément et/ou hospitalisés en néonatologie. Vos enfants ne sont plus à l'hôpital\,  sortis récemment ou depuis plus longtemps cette rencontre est faite pour vous. Une véritable occasion les mamans et les papas de partager votre parcours avec des parents qui ont aussi[..]
END:VEVENT
END:VCALENDAR